BEGIN:VCALENDAR
VERSION:2.0
PRODID:ostalb.info
METHOD:REQUEST
BEGIN:VEVENT
UID:4a632306-6039-4e94-bd7a-7fd81033e0c8
SUMMARY:CTAA | Was macht die Computertruhe?
DTSTART:20260217T160000Z
URL:https://ostalb.info/event/4a632306-6039-4e94-bd7a-7fd81033e0c8
DTEND:20260217T173000Z
CATEGORIES: Bildungsangebot\,Digitales
DESCRIPTION:nteressiert an der Computertruhe aber kein Plan\, was wir
  eigentlich machen? wir stellen den Verein\, sowie unsere Aufgaben vor und
  wir setzten zusammen einen Laptop auf. 
LOCATION:Hackwerk\, Blezingerstr. 15 73430 Aalen
GEO:48.8546313;10.090707
ORGANIZER:mailto:Computertruhe e.V. - Aalen
END:VEVENT
BEGIN:VEVENT
UID:16ad4057-983d-4b5a-a2e5-d0abd1e05fae
SUMMARY:Ostalb für Demokratie und Vielfalt
DTSTART:20260220T163000Z
URL:https://ostalb.info/event/16ad4057-983d-4b5a-a2e5-d0abd1e05fae
DTEND:20260220T190000Z
CATEGORIES:Demonstration\,Antifaschmus
DESCRIPTION:Das Bündnis Aufstehen gegen Rassismus ruft (nach einem Stupser
  der Linksjugend 'Solid) zu einer Kundgebung in Aalen auf. Die
  Veranstaltung beginnt um 17:30 an der Bohlschule in Aalen. Von dort wird
  in einem Umzug zur Stadthalle gezogen.
LOCATION:Stadthalle Aalen\, Berliner Pl. 1\, 73430 Aalen\, Germany
GEO:48.8361499;10.0822164
ORGANIZER:mailto:Linksjugend ['solid] Ostalb
END:VEVENT
BEGIN:VEVENT
UID:894c9e70-cde5-4475-ae59-52edbab2c4f4
SUMMARY:Offenes Basisgruppentreffen der Linksjugend ['solid] Ostalb
DTSTART:20260227T160000Z
URL:https://ostalb.info/event/894c9e70-cde5-4475-ae59-52edbab2c4f4
DTEND:20260227T180000Z
CATEGORIES:Stammtisch\,Politik
DESCRIPTION:Die Linksjugend ['solid] Ostalb lädt zum offenen
  Basisgruppentreffen im Regionalbüro der PDL Aalen. 
LOCATION:Regionalbüro Die Linke Ostalb\, Gartenstraße 74 73430 Aalen
GEO:48.8335806;10.0843863
ORGANIZER:mailto:Linksjugend ['solid] Ostalb
END:VEVENT
BEGIN:VEVENT
UID:10071dc5-dd3b-4368-8a54-5ed06db580c1
SUMMARY:Digital Indipendence Day / Digitaler Unabhängigkeitstag
DTSTART:20260301T120000Z
URL:https://ostalb.info/event/10071dc5-dd3b-4368-8a54-5ed06db580c1
DTEND:20260301T150000Z
CATEGORIES: Bildungsangebot\,Digitales
DESCRIPTION:Der Hackwerk e. V. lädt zum digitalen Unabhängigkeitstag in
  den Räumlichkeiten des AAccelerators (Blezingerstraße 15 73430 Aalen)
  ein. \n\nWir unterstützen euch dabei unabhängig von unfreien
  Software-Systemen zu werden\, z. B. indem wie beim Umstieg von Windows
  auf Linux helfen\, oder zu Open Source / Free Software Alternativen wie
  z. B. OnlyOffice statt MS Office beraten.\n\nEs sind alle Personen
  eingeladen und werden persönlich betreut. Wir freuen uns auf euch!
LOCATION:Hackwerk\, Blezingerstr. 15 73430 Aalen
GEO:48.8546313;10.090707
ORGANIZER:mailto:Hackwerk e.V.,Computertruhe e.V. Aalen
END:VEVENT
BEGIN:VEVENT
UID:5558a188-c89c-416a-ab98-f9e363d43e20
SUMMARY:Offenes Basisgruppentreffen der Linksjugend ['solid] Ostalb
DTSTART:20260320T160000Z
URL:https://ostalb.info/event/5558a188-c89c-416a-ab98-f9e363d43e20
DTEND:20260320T180000Z
CATEGORIES:Stammtisch\,Politik
DESCRIPTION:Die Linksjugend ['solid] Ostalb lädt zum offenen
  Basisgruppentreffen im Regionalbüro der PDL Aalen. 
LOCATION:Regionalbüro Die Linke Ostalb\, Gartenstraße 74 73430 Aalen
GEO:48.8335806;10.0843863
ORGANIZER:mailto:Linksjugend ['solid] Ostalb
END:VEVENT
BEGIN:VEVENT
UID:5e24eea6-3bc6-42b8-874c-02b7305c5596
SUMMARY:Spieleabend
DTSTART:20260328T150000Z
URL:https://ostalb.info/event/5e24eea6-3bc6-42b8-874c-02b7305c5596
CATEGORIES:Stammtisch\,Politik
DESCRIPTION:
LOCATION:Grünes Wohnzimmer\, Münsterplatz 13\, 73525 Schwäbisch Gmünd
ORGANIZER:mailto:Grüne Jugend Ostalb
END:VEVENT
BEGIN:VEVENT
UID:3b0c6fcb-7a58-4992-8c5f-4254ca553ac8
SUMMARY:Digital Indipendence Day / Digitaler Unabhängigkeitstag
DTSTART:20260405T110000Z
URL:https://ostalb.info/event/3b0c6fcb-7a58-4992-8c5f-4254ca553ac8
DTEND:20260405T140000Z
CATEGORIES: Bildungsangebot\,Digitales
DESCRIPTION:Der Hackwerk e. V. lädt zum digitalen Unabhängigkeitstag in
  den Räumlichkeiten des AAccelerators (Blezingerstraße 15 73430 Aalen)
  ein. \n\nWir unterstützen euch dabei unabhängig von unfreien
  Software-Systemen zu werden\, z. B. indem wie beim Umstieg von Windows
  auf Linux helfen\, oder zu Open Source / Free Software Alternativen wie
  z. B. OnlyOffice statt MS Office beraten.\n\nEs sind alle Personen
  eingeladen und werden persönlich betreut. Wir freuen uns auf euch!
LOCATION:Hackwerk\, Blezingerstr. 15 73430 Aalen
GEO:48.8546313;10.090707
ORGANIZER:mailto:Hackwerk e.V.,Computertruhe e.V. Aalen
END:VEVENT
BEGIN:VEVENT
UID:44fc0dc8-4353-4153-a963-c572db681cfd
SUMMARY:Offenes Basisgruppentreffen der Linksjugend ['solid] Ostalb
DTSTART:20260417T160000Z
URL:https://ostalb.info/event/44fc0dc8-4353-4153-a963-c572db681cfd
DTEND:20260417T180000Z
CATEGORIES:Stammtisch\,Politik
DESCRIPTION:Die Linksjugend ['solid] Ostalb lädt zum offenen
  Basisgruppentreffen im Regionalbüro der PDL Aalen. 
LOCATION:Regionalbüro Die Linke Ostalb\, Gartenstraße 74 73430 Aalen
GEO:48.8335806;10.0843863
ORGANIZER:mailto:Linksjugend ['solid] Ostalb
END:VEVENT
BEGIN:VEVENT
UID:6925a643-e93a-4d7f-9d9d-ea3e6ff843cd
SUMMARY:Lesung "Sie lügen und betrügen" von Karl Maier
DTSTART:20260424T173000Z
URL:https://ostalb.info/event/6925a643-e93a-4d7f-9d9d-ea3e6ff843cd
DTEND:20260424T190000Z
CATEGORIES: Bildungsangebot\,Antifaschmus
DESCRIPTION:Die Texte von Karl Maier wurden 2024 im Familiennachlass
  entdeckt\, von Karl-Heinz-Kocka transkribiert und veröffentlicht. Sie
  zeigen Karl Maier als unabhängigen\, klar denkenden\, von Freitheit\,
  Gerechtigkeit und Brüderlichkeit geprägten Menschen.
LOCATION:Evangelisches Gemeindehaus\, Friedhofstr. 5\, 73450 Aalen
ORGANIZER:mailto:Omas gegen Rechts Aalen
END:VEVENT
BEGIN:VEVENT
UID:37352120-e3dd-46c0-b1db-6ee3f9976a69
SUMMARY:DI.DAY Aalen
DTSTART:20260502T120000Z
URL:https://ostalb.info/event/37352120-e3dd-46c0-b1db-6ee3f9976a69
DTEND:20260502T160000Z
CATEGORIES: Bildungsangebot\,Digitales
DESCRIPTION:Die vhs-Aalen e.V. lädt zusammen mit der Computertruhe e.V. -
  Aalen zum digitalen Unabhängigkeitstag in den Räumlichkeiten des
  Torhaus (Gmünder Str. 9\, 73430 Aalen) ein.\n\nUhrzeit: 13:00 - 17:00
  Uhr\n\nWir unterstützen euch dabei unabhängig von unfreien
  Software-Systemen zu werden\, z. B. indem wir beim Umstieg von Windows
  auf Linux helfen\, oder zu Open Source / Free Software Alternativen wie
  z. B. OnlyOffice statt MS Office beraten.\n\nEs sind alle Personen
  eingeladen und werden persönlich betreut. Wir freuen uns auf
  euch!\n\n\nWeitere Informationen zum "DI.DAY Aalen" und zum Mitmachen
  finden sich auf unserer Wiki
  Seite:\nhttps://wiki.sfz-aalen.space/wiki/DiDay_Aalen\n
LOCATION:VHS Aalen e.V.\, Gmünder Str. 9\, 73430 Aalen
GEO:48.8367017;10.0921405
ORGANIZER:mailto:Computertruhe e.V. - Aalen
END:VEVENT
BEGIN:VEVENT
UID:70177597-c5a5-4c1f-a967-29a4bee4455a
SUMMARY:Digital Indipendence Day / Digitaler Unabhängigkeitstag
DTSTART:20260503T110000Z
URL:https://ostalb.info/event/70177597-c5a5-4c1f-a967-29a4bee4455a
DTEND:20260503T140000Z
CATEGORIES: Bildungsangebot\,Digitales
DESCRIPTION:Der Hackwerk e. V. lädt zum digitalen Unabhängigkeitstag in
  den Räumlichkeiten des AAccelerators (Blezingerstraße 15 73430 Aalen)
  ein. \n\nWir unterstützen euch dabei unabhängig von unfreien
  Software-Systemen zu werden\, z. B. indem wie beim Umstieg von Windows
  auf Linux helfen\, oder zu Open Source / Free Software Alternativen wie
  z. B. OnlyOffice statt MS Office beraten.\n\nEs sind alle Personen
  eingeladen und werden persönlich betreut. Wir freuen uns auf euch!
LOCATION:Hackwerk\, Blezingerstr. 15 73430 Aalen
GEO:48.8546313;10.090707
ORGANIZER:mailto:Hackwerk e.V.,Computertruhe e.V. Aalen
END:VEVENT
BEGIN:VEVENT
UID:cb60adf5-05cf-49a5-8601-d0854f0f386a
SUMMARY:Offenes Basisgruppentreffen der Linksjugend ['solid] Ostalb
DTSTART:20260515T160000Z
URL:https://ostalb.info/event/cb60adf5-05cf-49a5-8601-d0854f0f386a
DTEND:20260515T180000Z
CATEGORIES:Stammtisch\,Politik
DESCRIPTION:Die Linksjugend ['solid] Ostalb lädt zum offenen
  Basisgruppentreffen im Regionalbüro der PDL Aalen. 
LOCATION:Regionalbüro Die Linke Ostalb\, Gartenstraße 74 73430 Aalen
GEO:48.8335806;10.0843863
ORGANIZER:mailto:Linksjugend ['solid] Ostalb
END:VEVENT
BEGIN:VEVENT
UID:ac874a58-2692-4c1a-b124-023f3979e7af
SUMMARY:Digital Indipendence Day / Digitaler Unabhängigkeitstag
DTSTART:20260607T110000Z
URL:https://ostalb.info/event/ac874a58-2692-4c1a-b124-023f3979e7af
DTEND:20260607T140000Z
CATEGORIES: Bildungsangebot\,Digitales
DESCRIPTION:Der Hackwerk e. V. lädt zum digitalen Unabhängigkeitstag in
  den Räumlichkeiten des AAccelerators (Blezingerstraße 15 73430 Aalen)
  ein. \n\nWir unterstützen euch dabei unabhängig von unfreien
  Software-Systemen zu werden\, z. B. indem wie beim Umstieg von Windows
  auf Linux helfen\, oder zu Open Source / Free Software Alternativen wie
  z. B. OnlyOffice statt MS Office beraten.\n\nEs sind alle Personen
  eingeladen und werden persönlich betreut. Wir freuen uns auf euch!
LOCATION:Hackwerk\, Blezingerstr. 15 73430 Aalen
GEO:48.8546313;10.090707
ORGANIZER:mailto:Hackwerk e.V.,Computertruhe e.V. Aalen
END:VEVENT
BEGIN:VEVENT
UID:b70f76e7-0d12-4f44-bd10-b76c7a2e96b2
SUMMARY:Offenes Basisgruppentreffen der Linksjugend ['solid] Ostalb
DTSTART:20260619T160000Z
URL:https://ostalb.info/event/b70f76e7-0d12-4f44-bd10-b76c7a2e96b2
DTEND:20260619T180000Z
CATEGORIES:Stammtisch\,Politik
DESCRIPTION:Die Linksjugend ['solid] Ostalb lädt zum offenen
  Basisgruppentreffen im Regionalbüro der PDL Aalen. 
LOCATION:Regionalbüro Die Linke Ostalb\, Gartenstraße 74 73430 Aalen
GEO:48.8335806;10.0843863
ORGANIZER:mailto:Linksjugend ['solid] Ostalb
END:VEVENT
BEGIN:VEVENT
UID:94206d1a-c8af-42ef-88a5-259a925eb42c
SUMMARY:DI.DAY Aalen (Utopia)
DTSTART:20260627T083000Z
URL:https://ostalb.info/event/94206d1a-c8af-42ef-88a5-259a925eb42c
DTEND:20260627T100000Z
CATEGORIES: Bildungsangebot\,Digitales
DESCRIPTION:Der Hackwerk e. V. besucht das UtopiAA  n. e. V.\n\nWir
  unterstützen dabei unabhängig von unfreien Software-Systemen zu
  werden\, z. B. indem wir beim Umstieg von Windows auf Linux helfen\, oder
  zu Open Source / Free Software Alternativen wie z. B. OnlyOffice statt MS
  Office beraten.
LOCATION:Hackwerk\, Blezingerstr. 15 73430 Aalen
GEO:48.8546313;10.090707
ORGANIZER:mailto:Hackwerk e.V.
END:VEVENT
BEGIN:VEVENT
UID:c80bf166-7d2f-4ce3-b976-2c4b19c10fc7
SUMMARY:Digital Indipendence Day / Digitaler Unabhängigkeitstag
DTSTART:20260705T110000Z
URL:https://ostalb.info/event/c80bf166-7d2f-4ce3-b976-2c4b19c10fc7
DTEND:20260705T140000Z
CATEGORIES: Bildungsangebot\,Digitales
DESCRIPTION:Der Hackwerk e. V. lädt zum digitalen Unabhängigkeitstag in
  den Räumlichkeiten des AAccelerators (Blezingerstraße 15 73430 Aalen)
  ein. \n\nWir unterstützen euch dabei unabhängig von unfreien
  Software-Systemen zu werden\, z. B. indem wie beim Umstieg von Windows
  auf Linux helfen\, oder zu Open Source / Free Software Alternativen wie
  z. B. OnlyOffice statt MS Office beraten.\n\nEs sind alle Personen
  eingeladen und werden persönlich betreut. Wir freuen uns auf euch!
LOCATION:Hackwerk\, Blezingerstr. 15 73430 Aalen
GEO:48.8546313;10.090707
ORGANIZER:mailto:Hackwerk e.V.,Computertruhe e.V. Aalen
END:VEVENT
BEGIN:VEVENT
UID:9471f669-95ba-4a6f-a416-83d9f75375ee
SUMMARY:Offenes Basisgruppentreffen der Linksjugend ['solid] Ostalb
DTSTART:20260717T160000Z
URL:https://ostalb.info/event/9471f669-95ba-4a6f-a416-83d9f75375ee
DTEND:20260717T180000Z
CATEGORIES:Stammtisch\,Politik
DESCRIPTION:Die Linksjugend ['solid] Ostalb lädt zum offenen
  Basisgruppentreffen im Regionalbüro der PDL Aalen. 
LOCATION:Regionalbüro Die Linke Ostalb\, Gartenstraße 74 73430 Aalen
GEO:48.8335806;10.0843863
ORGANIZER:mailto:Linksjugend ['solid] Ostalb
END:VEVENT
BEGIN:VEVENT
UID:3e466b5d-a28c-41a4-adb7-0997d92ec97e
SUMMARY:Digital Indipendence Day / Digitaler Unabhängigkeitstag
DTSTART:20260802T110000Z
URL:https://ostalb.info/event/3e466b5d-a28c-41a4-adb7-0997d92ec97e
DTEND:20260802T140000Z
CATEGORIES: Bildungsangebot\,Digitales
DESCRIPTION:Der Hackwerk e. V. lädt zum digitalen Unabhängigkeitstag in
  den Räumlichkeiten des AAccelerators (Blezingerstraße 15 73430 Aalen)
  ein. \n\nWir unterstützen euch dabei unabhängig von unfreien
  Software-Systemen zu werden\, z. B. indem wie beim Umstieg von Windows
  auf Linux helfen\, oder zu Open Source / Free Software Alternativen wie
  z. B. OnlyOffice statt MS Office beraten.\n\nEs sind alle Personen
  eingeladen und werden persönlich betreut. Wir freuen uns auf euch!
LOCATION:Hackwerk\, Blezingerstr. 15 73430 Aalen
GEO:48.8546313;10.090707
ORGANIZER:mailto:Hackwerk e.V.,Computertruhe e.V. Aalen
END:VEVENT
BEGIN:VEVENT
UID:eeeb6d3c-4ed7-4c76-bb2b-a0e5d08f6050
SUMMARY:Offenes Basisgruppentreffen der Linksjugend ['solid] Ostalb
DTSTART:20260821T160000Z
URL:https://ostalb.info/event/eeeb6d3c-4ed7-4c76-bb2b-a0e5d08f6050
DTEND:20260821T180000Z
CATEGORIES:Stammtisch\,Politik
DESCRIPTION:Die Linksjugend ['solid] Ostalb lädt zum offenen
  Basisgruppentreffen im Regionalbüro der PDL Aalen. 
LOCATION:Regionalbüro Die Linke Ostalb\, Gartenstraße 74 73430 Aalen
GEO:48.8335806;10.0843863
ORGANIZER:mailto:Linksjugend ['solid] Ostalb
END:VEVENT
END:VCALENDAR
